BEGIN:VCALENDAR
VERSION:2.0
PRODID:spatie/icalendar-generator
DESCRIPTION:Events from Carlisle Iowa Public Library
X-WR-CALDESC:Events from Carlisle Iowa Public Library
REFRESH-INTERVAL;VALUE=DURATION:PT1440M
X-PUBLISHED-TTL:PT1440M
BEGIN:VTIMEZONE
TZID:Etc/GMT+6
BEGIN:STANDARD
DTSTART:20231118T130000Z
TZOFFSETFROM:-0600
TZOFFSETTO:-0600
END:STANDARD
END:VTIMEZONE
BEGIN:VTIMEZONE
TZID:UTC
BEGIN:STANDARD
DTSTART:20250726T084415Z
TZOFFSETFROM:+0000
TZOFFSETTO:+0000
END:STANDARD
END:VTIMEZONE
BEGIN:VEVENT
UID:65-57
DTSTAMP:20260422T084415Z
SUMMARY:Craft Buffet
LOCATION:Carlisle Public Library 135 School St  Carlisle  IA 50047
ORGANIZER;CN=Cyber:MAILTO:support@getcybersolutions.com
DTSTART;TZID=Etc/GMT+6:20240814T130000
DTEND;TZID=Etc/GMT+6:20240814T140000
X-ALT-DESC;FMTTYPE=TEXT/HTML:
CATEGORIES:General
URL;VALUE=URI:https://carlislepubliclibrary.org/mc-events/craft-buffet/
METHOD:PUBLISH
END:VEVENT
END:VCALENDAR